BEGIN:VCALENDAR
VERSION:2.0
PRODID:Imitheme.com
BEGIN:VEVENT
UID:20210302T015955-1914836602
DTSTAMP:20210302T015955
DTSTART:20210226T193000
DTEND:20210226T210000
SUMMARY:Alpha Online
LOCATION:Via Zoom. Please contact the church office for details.
DESCRIPTION: Alpha Online Course Starting Wed 29 July from 7:30-9pm We would love to have you join us for the next little while to explore meaning, faith, and life together in a supportive and friendly (Zoom!) environment. Each week, Alpha starts with a bit of a social catch up, then a...
END:VEVENT
END:VCALENDAR
