BEGIN:VCALENDAR
VERSION:2.0
PRODID:Imitheme.com 
BEGIN:VEVENT
UID:20210302T025101973694341
DTSTAMP;TZID=UTC:20210302T025101
DTSTART;TZID=UTC:20200406T090000
DTEND;TZID=UTC:20200406T091500
SUMMARY:#EasterDevo
LOCATION:Online Streaming\: https\://www.youtube.com/channel/UCGaFMJ7pDjCvvhTkDYoo10g
DESCRIPTION:
END:VEVENT
END:VCALENDAR
