BEGIN:VCALENDAR
VERSION:2.0
PRODID:Imitheme.com
BEGIN:VEVENT
UID:20210302T020201-2084119274
DTSTAMP:20210302T020201
DTSTART:20210226T100000
DTEND:20210226T110000
SUMMARY:KBC Sunday Gathering (Family Service)
LOCATION:Kew Baptist Church (Online Streaming)
DESCRIPTION: Via Zoom. Please contact the Church office for details and Zoom links.
END:VEVENT
END:VCALENDAR
