BEGIN:VCALENDAR
VERSION:2.0
PRODID:Imitheme.com 
BEGIN:VEVENT
UID:20210302T020719405602332
DTSTAMP;TZID=UTC:20210302T020719
DTSTART;TZID=UTC:20210225T133000
DTEND;TZID=UTC:20210225T150000
SUMMARY:KBC Sunday Gathering (Vietnamese Service)
LOCATION:Kew Baptist Church (Online Streaming)
DESCRIPTION:Please contact the Church office for details.
END:VEVENT
END:VCALENDAR
