BEGIN:VCALENDAR
VERSION:2.0
PRODID:Imitheme.com
BEGIN:VEVENT
UID:20210302T015831-241672906
DTSTAMP:20210302T015831
DTSTART:20210226T193000
DTEND:20210226T213000
SUMMARY:Leadership Team Meeting
LOCATION:
DESCRIPTION: 
END:VEVENT
END:VCALENDAR
