BEGIN:VCALENDAR
VERSION:2.0
PRODID:Imitheme.com 
BEGIN:VEVENT
UID:20210302T0251536236849
DTSTAMP;TZID=UTC:20210302T025153
DTSTART;TZID=UTC:20200406T120000
DTEND;TZID=UTC:20200406T130000
SUMMARY:Lunchtime Bible Studies
LOCATION:Online Streaming
DESCRIPTION:
END:VEVENT
END:VCALENDAR
